BEGIN:VCALENDAR
VERSION:2.0
PRODID:-//Real WC St. Louis - ECPv6.15.16//NONSGML v1.0//EN
CALSCALE:GREGORIAN
METHOD:PUBLISH
X-WR-CALNAME:Real WC St. Louis
X-ORIGINAL-URL:https://realwc.com
X-WR-CALDESC:Events for Real WC St. Louis
REFRESH-INTERVAL;VALUE=DURATION:PT1H
X-Robots-Tag:noindex
X-PUBLISHED-TTL:PT1H
BEGIN:VTIMEZONE
TZID:UTC
BEGIN:STANDARD
TZOFFSETFROM:+0000
TZOFFSETTO:+0000
TZNAME:UTC
DTSTART:20250101T000000
END:STANDARD
END:VTIMEZONE
BEGIN:VEVENT
DTSTART;TZID=UTC:20260607T080000
DTEND;TZID=UTC:20260607T170000
DTSTAMP:20260425T182553
CREATED:20240410T174432Z
LAST-MODIFIED:20260415T134225Z
UID:10000221-1780819200-1780851600@realwc.com
SUMMARY:Girls ID sessions for June 7th Summer 2026 - Birth years: 2019\, 2018\, 2017\, 2016\, 2015\, 2014
DESCRIPTION:June 7th\, tryout session: for birth year ages 2019\, 2018\, 2017\,2016\, 2015\, 2014 from at Valley Park Complex\, field #6 by the baseball fields. \n\,For more details or earlier tryout date & time contact Cfuchs@awacademy.com or text 314-602-4595
URL:https://realwc.com/event/girls-id-sessions-for-spring-2024-birth-years-2015-2014-2013-2/
LOCATION:WC Valley Park fields\, 998 Cal Hedrick Way\, Valley Park\, MO\, 63088\, United States
END:VEVENT
END:VCALENDAR